BEGIN:VCALENDAR
VERSION:2.0
PRODID:-//Mosbacher Brauhaus - ECPv6.15.20//NONSGML v1.0//EN
CALSCALE:GREGORIAN
METHOD:PUBLISH
X-WR-CALNAME:Mosbacher Brauhaus
X-ORIGINAL-URL:https://mosbacher-brauhaus.de
X-WR-CALDESC:Veranstaltungen für Mosbacher Brauhaus
REFRESH-INTERVAL;VALUE=DURATION:PT1H
X-Robots-Tag:noindex
X-PUBLISHED-TTL:PT1H
BEGIN:VTIMEZONE
TZID:UTC
BEGIN:STANDARD
TZOFFSETFROM:+0000
TZOFFSETTO:+0000
TZNAME:UTC
DTSTART:20250101T000000
END:STANDARD
END:VTIMEZONE
BEGIN:VEVENT
DTSTART;VALUE=DATE:20260207
DTEND;VALUE=DATE:20260208
DTSTAMP:20260421T114727
CREATED:20250131T083132Z
LAST-MODIFIED:20251211T092949Z
UID:1518-1770422400-1770508799@mosbacher-brauhaus.de
SUMMARY:Krimi-Dinner
DESCRIPTION:Eine Leiche im Louvre\n			\n				\n				\n				\n				\n				Du willst einen außergewöhnlichen Abend mit Deinen Lieben verbringen? Dann ist das Krimi Dinner am 07. Februar 2026 genau das Richtige für Dich! \nWir befinden uns im Pariser Louvre im Jahre 1958. Du bist Teil dieser kunstverständigen Gesellschaft als sich plötzlich herausstellt\, dass die \,\,Mona Lisa“ eine Fälschung ist. Diese schockierende ​Nachricht wirft bei allen Anwesenden viele Fragen auf. Wo ist die Echte?Leider können nicht alle Anwesenden die Lösung dieser brennenden Fragen erleben\, denn kurz nach der Enthüllung wird plötzlich eine Leiche gefunden! Es befindet sich ein Mörder oder eine Mörderin​ im Louvre – aber wer ist es? \nStelle Dein detektivisches Können unter Beweis und hilf dabei den Mörder oder die Mörderin zu überführen.  Damit Dir bei der Ganovenjagd nicht die Puste ausgeht\, sorgen wir mit einem ausgewählten Mehrgang-Menü für Dein leibliches Wohl.Freue Dich auf ein einzigartiges Erlebnis! \n			\n				\n				\n				\n				\n				Tickets gibt’s hier
URL:https://mosbacher-brauhaus.de/event/krimi-dinner/
ATTACH;FMTTYPE=image/jpeg:https://mosbacher-brauhaus.de/wp-content/uploads/2025/12/Eine-Leiche-im-Louvre-3.jpg
END:VEVENT
BEGIN:VEVENT
DTSTART;VALUE=DATE:20260228
DTEND;VALUE=DATE:20260301
DTSTAMP:20260421T114727
CREATED:20250131T081416Z
LAST-MODIFIED:20251211T091655Z
UID:1502-1772236800-1772323199@mosbacher-brauhaus.de
SUMMARY:93. Whisky-Dinner - Scottish Islands
DESCRIPTION:93. Whisky – Dinner – Scottish Islands\n			\n				\n				\n				\n				\n				Das Mosbacher Brauhaus und Michael Gradl vom Whiskyfässlaladen zum traditionellen Whisky-Dinner ein. \n			\n				\n				\n				\n				\n				Sie erfahren alles über den Whisky\, die Produktion\, die Regionenund die Geschmacksvielfalt und natürlich das Tasting hervorragender Whiskys aus Einzelfassabfüllung.Zu diesem Tasting servieren wir ein 5-Gänge-Menü und zu jedem Gang einen ausgesuchten Single Malt von verschiedenen Brennereien der schottischen Inseln. \nTickets und nähere Informationen gibt es telefonisch unter der Tel.-Nr. 0157-54497132 oder per E-Mail unter reservierung@mosbacher-brauhaus.de \n103\,- € pro Person | Erstklassiges 5-Gänge-Menü (auch vegetarisch) inklusive 5 korrespondierenden schottischen Island Single Malt WhiskysBeginn ist um 18:00 Uhr | Einlass ab 17:30 Uhr
URL:https://mosbacher-brauhaus.de/event/90-whisky-dinner-scottish-islands/
ATTACH;FMTTYPE=image/jpeg:https://mosbacher-brauhaus.de/wp-content/uploads/2022/02/Whisky-HP.jpg
END:VEVENT
END:VCALENDAR