BEGIN:VCALENDAR
VERSION:2.0
PRODID:-//Mosbacher Brauhaus - ECPv6.15.20//NONSGML v1.0//EN
CALSCALE:GREGORIAN
METHOD:PUBLISH
X-ORIGINAL-URL:https://mosbacher-brauhaus.de
X-WR-CALDESC:Veranstaltungen für Mosbacher Brauhaus
REFRESH-INTERVAL;VALUE=DURATION:PT1H
X-Robots-Tag:noindex
X-PUBLISHED-TTL:PT1H
BEGIN:VTIMEZONE
TZID:UTC
BEGIN:STANDARD
TZOFFSETFROM:+0000
TZOFFSETTO:+0000
TZNAME:UTC
DTSTART:20240101T000000
END:STANDARD
END:VTIMEZONE
BEGIN:VEVENT
DTSTART;VALUE=DATE:20250301
DTEND;VALUE=DATE:20250302
DTSTAMP:20260422T151717
CREATED:20241021T105630Z
LAST-MODIFIED:20241021T105633Z
UID:1369-1740787200-1740873599@mosbacher-brauhaus.de
SUMMARY:87. Whisky – Dinner Scottish Islands
DESCRIPTION:87. Whisky – Dinner Scottish Islands\n			\n				\n				\n				\n				\n				Das Mosbacher Brauhaus und Michael Gradl vom Whiskyfässlaladen zum 87. traditionellen Whisky-Dinner am 01. März ein. \n			\n				\n				\n				\n				\n				Sie erfahren alles über den Whisky\, die Produktion\, die Regionenund die Geschmacksvielfalt und natürlich das Tasting hervorragender Whiskys aus Einzelfassabfüllung.Zu diesem Tasting servieren wir ein 5-Gänge-Menü und zu jedem Gang einen ausgesuchten Single Malt von verschiedenen Brennereien der schottischen Inseln. \nTickets und nähere Informationen gibt es telefonisch unter der Tel.-Nr. 0157-54497132 oder per E-Mail unter reservierung@mosbacher-brauhaus.de \n103\,- € pro Person | Erstklassiges 5-Gänge-Menü (auch vegetarisch) inklusive 5 korrespondierenden schottischen Island Single Malt WhiskysBeginn ist um 18:00 Uhr | Einlass ab 17:30 Uhr
URL:https://mosbacher-brauhaus.de/event/87-whisky-dinner-scottish-islands/
ATTACH;FMTTYPE=image/jpeg:https://mosbacher-brauhaus.de/wp-content/uploads/2022/02/Whisky-HP.jpg
END:VEVENT
BEGIN:VEVENT
DTSTART;VALUE=DATE:20250329
DTEND;VALUE=DATE:20250330
DTSTAMP:20260422T151717
CREATED:20241021T110035Z
LAST-MODIFIED:20250127T084617Z
UID:1375-1743206400-1743292799@mosbacher-brauhaus.de
SUMMARY:88. Whisky-Dinner - ausgebucht
DESCRIPTION:88. Whisky – Dinner\n			\n				\n				\n				\n				\n				Das Mosbacher Brauhaus und Michael Gradl vom Whiskyfässlaladen zum 88. traditionellen Whisky-Dinner am 29. März 2025 ein. \n			\n				\n				\n				\n				\n				Sie erfahren alles über den Whisky\, die Produktion\, die Regionenund die Geschmacksvielfalt und natürlich das Tasting hervorragender Whiskys aus Einzelfassabfüllung.Zu diesem Tasting servieren wir ein 5-Gänge-Menü und zu jedem Gang einen ausgesuchten Single Malt von verschiedenen Brennereien Schottlands. \nTickets und nähere Informationen gibt es telefonisch unter der Tel.-Nr. 0157-54497132  oder per Mail an reservierung@mosbacher-brauhaus.de \n84\,- € pro Person | Erstklassiges 5-Gänge-Menü inklusive 5 korrespondierenden schottischen Single Malt WhiskysBeginn ist um 18:00 Uhr | Einlass ab 17:30 Uhr
URL:https://mosbacher-brauhaus.de/event/88-whisky-dinner/
ATTACH;FMTTYPE=image/jpeg:https://mosbacher-brauhaus.de/wp-content/uploads/2022/02/Whisky-HP.jpg
END:VEVENT
END:VCALENDAR