BEGIN:VCALENDAR
VERSION:2.0
PRODID:-//Mosbacher Brauhaus - ECPv6.15.20//NONSGML v1.0//EN
CALSCALE:GREGORIAN
METHOD:PUBLISH
X-ORIGINAL-URL:https://mosbacher-brauhaus.de
X-WR-CALDESC:Veranstaltungen für Mosbacher Brauhaus
REFRESH-INTERVAL;VALUE=DURATION:PT1H
X-Robots-Tag:noindex
X-PUBLISHED-TTL:PT1H
BEGIN:VTIMEZONE
TZID:UTC
BEGIN:STANDARD
TZOFFSETFROM:+0000
TZOFFSETTO:+0000
TZNAME:UTC
DTSTART:20250101T000000
END:STANDARD
END:VTIMEZONE
BEGIN:VEVENT
DTSTART;VALUE=DATE:20261114
DTEND;VALUE=DATE:20261115
DTSTAMP:20260419T191711
CREATED:20260210T120636Z
LAST-MODIFIED:20260319T083937Z
UID:1829-1794614400-1794700799@mosbacher-brauhaus.de
SUMMARY:97. Whisky-Dinner - AUSGEBUCHT
DESCRIPTION:97. Whisky-Dinner\n			\n				\n				\n				\n				\n				Traditionelles Whisky-Tasting mit 5-Gänge Menü\n			\n				\n				\n				\n				\n				Das Mosbacher Brauhaus und Michael Gradl vom Whiskyfässla laden zum traditionellen Whisky-Dinner ein.\nSie erfahren alles über den Whisky\, die Produktion\, die Regionenund die Geschmacksvielfalt und natürlich das Tasting hervorragender Whiskys aus Einzelfassabfüllung.Zu diesem Tasting servieren wir ein 5-Gänge-Menü und zu jedem Gang einen ausgesuchten Single Malt von verschiedenen Brennereien der schottischen Inseln.\nTickets und nähere Informationen gibt es telefonisch unter der Tel.-Nr. 0157-54497132 oder per E-Mail unter reservierung@mosbacher-brauhaus.de\n84\,- € pro Person | Erstklassiges 5-Gänge-Menü (auch vegetarisch) inklusive 5 korrespondierenden schottischen Island Single Malt WhiskysBeginn ist um 18:00 Uhr | Einlass ab 17:30 Uhr
URL:https://mosbacher-brauhaus.de/event/1829/
ATTACH;FMTTYPE=image/jpeg:https://mosbacher-brauhaus.de/wp-content/uploads/2022/02/Whisky-HP.jpg
END:VEVENT
END:VCALENDAR