BEGIN:VCALENDAR
VERSION:2.0
PRODID:-//Mosbacher Brauhaus - ECPv6.15.20//NONSGML v1.0//EN
CALSCALE:GREGORIAN
METHOD:PUBLISH
X-ORIGINAL-URL:https://mosbacher-brauhaus.de
X-WR-CALDESC:Veranstaltungen für Mosbacher Brauhaus
REFRESH-INTERVAL;VALUE=DURATION:PT1H
X-Robots-Tag:noindex
X-PUBLISHED-TTL:PT1H
BEGIN:VTIMEZONE
TZID:UTC
BEGIN:STANDARD
TZOFFSETFROM:+0000
TZOFFSETTO:+0000
TZNAME:UTC
DTSTART:20230101T000000
END:STANDARD
END:VTIMEZONE
BEGIN:VEVENT
DTSTART;VALUE=DATE:20240723
DTEND;VALUE=DATE:20240724
DTSTAMP:20260422T213601
CREATED:20230706T132653Z
LAST-MODIFIED:20240424T092114Z
UID:953-1721692800-1721779199@mosbacher-brauhaus.de
SUMMARY:Blasmusik zum Feierabend
DESCRIPTION:Blasmusik zum Feierabend\nmit der Feuerwehrkapelle Kirchardt\n\n    Am Dienstag\, 23. Juli von 19:30 – 22:00 Uhr spielt die Feuerwehrkapelle Kirchardt tolle Unterhaltungsmusik von verschiedenen Epochen und Stilrichtungen in unserem Biergarten.\nSie möchten den Dienstag Abend auch gerne bei einem kühlen Bier\, Speisen aus unserer vielfältigen Karte und stimmungsvoller Live-Musik genießen?\nDann sichern Sie sich gerne Ihre Plätze unter 06261/36969 oder per E-Mail unter reservierung@mosbacher-brauhaus.de.\n! Der Eintritt ist frei !
URL:https://mosbacher-brauhaus.de/event/blasmusik-zum-feierabend/
ATTACH;FMTTYPE=image/jpeg:https://mosbacher-brauhaus.de/wp-content/uploads/2023/07/Logo-Aktive-Kapelle.jpg
END:VEVENT
END:VCALENDAR